BEGIN:VCALENDAR
VERSION:2.0
PRODID:-//hacksw/handcal//NONSGML v1.0//EN
BEGIN:VEVENT
SUMMARY:Training sbx lognan
UID:364487e9-5b92-48d3-b20c-1ece34b84430
DTSTART:20260401T113000Z
DTEND:20260401T141500Z
LOCATION:Localisation   
CATEGORIES:Entrainement
STATUS:
URL;VALUE=URI:https://www.chxsnowboard.com/evenements/2026/04/01/training-sbx-lognan-2435865
END:VEVENT
END:VCALENDAR
