BEGIN:VCALENDAR
VERSION:2.0
PRODID:-//hacksw/handcal//NONSGML v1.0//EN
BEGIN:VEVENT
SUMMARY:RIDERS
UID:641bbc6f-53e1-4f6a-92c5-c0ad92cec83e
DTSTART:20260405T070000Z
DTEND:20260405T100000Z
LOCATION:Localisation   
CATEGORIES:Entrainement
STATUS:
DESCRIPTION:<p>RDV aux Houches (Prarion)</p>
URL;VALUE=URI:https://www.chxsnowboard.com/evenements/2026/04/05/riders-2437607
END:VEVENT
END:VCALENDAR
