BEGIN:VCALENDAR
VERSION:2.0
PRODID:-//hacksw/handcal//NONSGML v1.0//EN
BEGIN:VEVENT
SUMMARY:ROOKIES
UID:332521e1-c49b-4184-abe5-9fb651dbee7e
DTSTART:20260405T110000Z
DTEND:20260405T140000Z
LOCATION:Localisation   
CATEGORIES:Entrainement
STATUS:
DESCRIPTION:<p>RDV aux Houches (Prarion)</p>
URL;VALUE=URI:https://www.chxsnowboard.com/evenements/2026/04/05/rookies-2437605
END:VEVENT
END:VCALENDAR
